BEGIN:VCALENDAR
VERSION:2.0
PRODID:-//Cooks &amp; Bakers Kitchen - ECPv6.15.18//NONSGML v1.0//EN
CALSCALE:GREGORIAN
METHOD:PUBLISH
X-WR-CALNAME:Cooks &amp; Bakers Kitchen
X-ORIGINAL-URL:https://cooksandbakerskitchen.com
X-WR-CALDESC:Events for Cooks &amp; Bakers Kitchen
REFRESH-INTERVAL;VALUE=DURATION:PT1H
X-Robots-Tag:noindex
X-PUBLISHED-TTL:PT1H
BEGIN:VTIMEZONE
TZID:America/Chicago
BEGIN:DAYLIGHT
TZOFFSETFROM:-0600
TZOFFSETTO:-0500
TZNAME:CDT
DTSTART:20240310T080000
END:DAYLIGHT
BEGIN:STANDARD
TZOFFSETFROM:-0500
TZOFFSETTO:-0600
TZNAME:CST
DTSTART:20241103T070000
END:STANDARD
BEGIN:DAYLIGHT
TZOFFSETFROM:-0600
TZOFFSETTO:-0500
TZNAME:CDT
DTSTART:20250309T080000
END:DAYLIGHT
BEGIN:STANDARD
TZOFFSETFROM:-0500
TZOFFSETTO:-0600
TZNAME:CST
DTSTART:20251102T070000
END:STANDARD
BEGIN:DAYLIGHT
TZOFFSETFROM:-0600
TZOFFSETTO:-0500
TZNAME:CDT
DTSTART:20260308T080000
END:DAYLIGHT
BEGIN:STANDARD
TZOFFSETFROM:-0500
TZOFFSETTO:-0600
TZNAME:CST
DTSTART:20261101T070000
END:STANDARD
END:VTIMEZONE
BEGIN:VEVENT
DTSTART;TZID=America/Chicago:20250503T110000
DTEND;TZID=America/Chicago:20250503T140000
DTSTAMP:20260421T064529
CREATED:20250421T165528Z
LAST-MODIFIED:20250501T145919Z
UID:2389-1746270000-1746280800@cooksandbakerskitchen.com
SUMMARY:🍰 Saturday Bake Shop at  Cooks & Bakers Kitchen🍳
DESCRIPTION:Every Saturday | 11:00 AM – 2:00 PM  Treat yourself to a delightful weekend indulgence at our Saturday Bake Shop! Each week\, we feature a complimentary baked good or brunch dish\, freshly made and full of feel-good flavor—just for you. ☕ Sip on complimentary coffee drinks crafted to perfection with our Jura automatic coffee machines.🍽️ Enjoy a rotating menu of sweet and savory delights—perfect for sharing\, gifting\, or keeping all to yourself.🥂 Make it a true brunch moment with $5 Mimosas—bubbly\, bright\, and just what your Saturday needs. No need to RSVP—just stop by\, snack\, sip\, and savor the good vibes.Let’s make your weekend a little sweeter. See you Saturday!
URL:https://cooksandbakerskitchen.com/event/%f0%9f%8d%b0-saturday-bake-shop-at-cooks-bakers-kitchen%f0%9f%8d%b3-4/
LOCATION:Cooks & Bakers Kitchen\, 5906 E 18th Street\, Sioux Falls\, SD\, 57110\, United States
CATEGORIES:Cooking Classes,Cooking Demos,Food Tastings
ATTACH;FMTTYPE=image/jpeg:https://cooksandbakerskitchen.com/wp-content/uploads/sites/189/2024/03/Cruffin.jpg
END:VEVENT
BEGIN:VEVENT
DTSTART;TZID=America/Chicago:20250510T120000
DTEND;TZID=America/Chicago:20250510T150000
DTSTAMP:20260421T064529
CREATED:20240313T184151Z
LAST-MODIFIED:20250501T150131Z
UID:1316-1746878400-1746889200@cooksandbakerskitchen.com
SUMMARY:🎷 Chef Omar is Back! Cooking up Jambalaya
DESCRIPTION:Taste of the Big Easy – Live Cooking Demo📍 Cooks & Bakers Kitchen | 🕛 Saturday\, May 10th 12:00 PM – 3:00 PM  Laissez les bons temps rouler – Chef Omar returns with the rich\, soulful flavors of New Orleans! Join us for a live cooking demo as he serves up his secret recipe for Jambalaya—a true Taste of the Big Easy. 🍛 Free Samples while supplies last🥣 $5 Bowls fresh from the pot📦 Pre-Order To-Go Jambalaya: 16oz for $15 32oz for $25 ✨ Pre-orders close at 5:00 pm May 9th📞 Call Cooks & Bakers Kitchen to place your order! 605-705-6770.    
URL:https://cooksandbakerskitchen.com/event/chef-omar-returns-with-taste-of-the-big-easy/
LOCATION:Cooks & Bakers Kitchen\, 5906 E 18th Street\, Sioux Falls\, SD\, 57110\, United States
CATEGORIES:Cooking Classes,Cooking Demos,Food Tastings
ATTACH;FMTTYPE=image/jpeg:https://cooksandbakerskitchen.com/wp-content/uploads/sites/189/2023/12/Jambalaya.jpg
END:VEVENT
BEGIN:VEVENT
DTSTART;TZID=America/Chicago:20250522T183000
DTEND;TZID=America/Chicago:20250522T203000
DTSTAMP:20260421T064529
CREATED:20250221T203229Z
LAST-MODIFIED:20250501T150441Z
UID:2308-1747938600-1747945800@cooksandbakerskitchen.com
SUMMARY:An Evening with Chef Napolitano
DESCRIPTION:An Evening with Chef Napolitano Featuring Recipes from Belle Cucina: Old Italian Family RecipesStep into the heart of traditional Italian cooking with renowned Chef Napolitano as he shares his family’s treasured recipes from his cookbook\, Belle Cucina: Old Italian Family Recipes. In this demonstration-style cooking class\, you’ll watch\, learn\, and savor as Chef Napolitano expertly prepares a selection of authentic Italian dishes\, offering tips\, techniques\, and stories behind each beloved recipe. ✨ What to Expect:👨‍🍳 Live Cooking Demonstration – Watch as Chef Napolitano brings classic Italian flavors to life\, showcasing traditional methods and techniques.🍝 Authentic Recipes – Learn to make time-honored dishes straight from his family’s kitchen.🍷 Tastings Included – Enjoy a full meal of the dishes prepared\, paired with a complementary glass of wine.📖 Q&A with the Chef – Ask questions and gain insight into Italian cooking and the rich history behind each dish.📚 Book Signing Opportunity – Get your copy of Belle Cucina signed by Chef Napolitano. $99 per person plus service charge and Tax  
URL:https://cooksandbakerskitchen.com/event/an-evening-with-chef-napolitano-2/
LOCATION:Cooks & Bakers Kitchen\, 5906 E 18th Street\, Sioux Falls\, SD\, 57110\, United States
CATEGORIES:Cooking Classes,Cooking Demos,Food Tastings,Private Events
ATTACH;FMTTYPE=image/jpeg:https://cooksandbakerskitchen.com/wp-content/uploads/sites/189/2024/11/JWS_7680-1260x840-1.jpg
END:VEVENT
BEGIN:VEVENT
DTSTART;TZID=America/Chicago:20250523T180000
DTEND;TZID=America/Chicago:20250523T200000
DTSTAMP:20260421T064529
CREATED:20250421T181210Z
LAST-MODIFIED:20250522T220438Z
UID:2397-1748023200-1748030400@cooksandbakerskitchen.com
SUMMARY:Pasta 2 Ways: Hands-On Cooking Class
DESCRIPTION:SOLD OUT Pasta 2 Ways: Hands-On Cooking Class Pasta-Making Cooking Class – For the Love of Pasta!Calling all pasta lovers and curious cooks! Join us for a hands-on pasta-making class where we’ll roll\, cut\, and cook our way to delicious homemade pasta from scratch. Whether you’re a total beginner or a seasoned foodie\, this class is perfect for anyone who loves good food and wants to learn the art of pasta-making in a fun\, relaxed setting. What’s on the menu:🍝 Fresh handmade pasta dough🍴 Classic pasta shapes (think tagliatelle\, fettuccine\, and more!)🧄 Simple\, flavorful sauce to bring it all together🥂 Enjoy a complimentary beer or wine upon arrival. Additional for purchase. You’ll leave with new skills\, full bellies\, and maybe a little flour on your shirt. Come solo\, bring a friend\, or make it a date night—this is a class you won’t want to miss! $89 per person plus service charge and Tax 🎟 Spots are limited – reserve yours today! CALL TODAY. 605-705-6770   $89.00 per person *** plus tax & service charge Minimum attendance needed to host the class.   
URL:https://cooksandbakerskitchen.com/event/pasta-2-ways-hands-on-cooking-class/
LOCATION:Cooks & Bakers Kitchen\, 5906 E 18th Street\, Sioux Falls\, SD\, 57110\, United States
CATEGORIES:Cooking Classes,Cooking Demos,Food Tastings,Private Events
ATTACH;FMTTYPE=image/jpeg:https://cooksandbakerskitchen.com/wp-content/uploads/sites/189/2024/10/gettyimages-627987614-612x612-1-e1760714478601.jpg
END:VEVENT
BEGIN:VEVENT
DTSTART;TZID=America/Chicago:20250531T110000
DTEND;TZID=America/Chicago:20250531T140000
DTSTAMP:20260421T064529
CREATED:20250527T170907Z
LAST-MODIFIED:20250527T175105Z
UID:2451-1748689200-1748700000@cooksandbakerskitchen.com
SUMMARY:Saturday Bake Shop!
DESCRIPTION:Every Saturday | 11:00 AM – 2:00 PM Treat yourself to a delightful weekend indulgence at our Saturday Bake Shop! Each week\, we feature a complimentary baked good or brunch dish\, freshly made and full of feel-good flavor—just for you. ☕ Sip on complimentary coffee drinks crafted to perfection with our Jura automatic coffee machines.🍽️ Enjoy a rotating menu of sweet and savory delights—perfect for sharing\, gifting\, or keeping all to yourself.🥂 Make it a true brunch moment with $5 Mimosas—bubbly\, bright\, and just what your Saturday needs. No need to RSVP—just stop by\, snack\, sip\, and savor the good vibes.Let’s make your weekend a little sweeter. See you Saturday!
URL:https://cooksandbakerskitchen.com/event/saturday-bake-shop-41/
LOCATION:Cooks & Bakers Kitchen\, 5906 E 18th Street\, Sioux Falls\, SD\, 57110\, United States
CATEGORIES:Cooking Classes,Cooking Demos,Food Tastings
ATTACH;FMTTYPE=image/jpeg:https://cooksandbakerskitchen.com/wp-content/uploads/sites/189/2024/05/triple-berry-coffee-cake-10-e1748368287731.jpg
END:VEVENT
END:VCALENDAR